BEGIN:VCALENDAR
VERSION:2.0
PRODID:-//https://fahrschule.kutlu.ch///NONSGML kigkonsult.se iCalcreator 2.10.15//
METHOD:PUBLISH
BEGIN:VEVENT
UID:20260420T145200CEST-0888epr9u2@https://fahrschule.kutlu.ch/
DTSTAMP:20260420T125200Z
DESCRIPTION:Teil 1 21.05.2026 16.00 - 20.00 Uhr  (Ist ausnahmsweise\, ein D
 ONNERSTAG\, daher die Zeit)Teil 2 30.05.2026 08.00 - 12.00 UhrTeil 3 31.05
 .2026 08.00 - 12.00 UhrDer Grundkurs besteht aus 3 Kursteilen à 4 Stunden.
  Unsere Kurse finden in angenehmen Kleingruppen statt.  \nDer Treffpunkt f
 ür den 1.Kursteil ist unser Übungsplatz in Goldach SG. Für die weiteren Ku
 rsteile nach Absprache in der nahen Region. \nTeilnahmebedingungen:\n\ngül
 tiger Lernfahrausweis\neigenes Motorrad (Motorrad/Roller kann gemietet wer
 den 50.- CHF/Kursteil)\nMotorradbekleidung\n\nKursinhalt:\n\nDu lernst das
  Basiswissen\, um sicher und unfallfrei mit deinem Motorrad unterwegs zu s
 ein\nDu lernst alles\, was du für die Prüfung wissen musst (Notbremsung\, 
 Kurvenfahren\, Fahren zu zweit etc.)\nWir zeigen dir besonders wertvolle T
 ipps und Tricks rund um das Motorradfahren\n\n \n\n\n\n1. Kursteil\n\nUmga
 ng Gas\, Kupplung\nUmgang Bremse\nSpurgasse\nSlalom fahren\neine Acht fahr
 en\nNotbremsung\n\n\n\n\n\n\n\n2. Kursteil\n\nFahren zu Zweit\nAnfahren am
  Berg\nEinspuren\, Zeichengabe\nBefahren von Verzweigungen\nBremsbereitsch
 aft\nGeschwindigkeitsgestaltung\nEinspurstrecken\n\n\n\n\n\n\n\n3. Kurstei
 l\n\nBremsen und Ausweichen\nGegenlenken\nBremsen\, Beschleunigen\nSchrägl
 agentraining\nKurvenfahrtechniken\nÜberholen\nGruppenfahren\n\n\n\n https:
 //fahrschule.kutlu.ch/component/rseventspro/ereignis/25-motorrad-grundkurs
 -rorschach?Itemid=101
DTSTART:20260521T130000Z
DTEND:20260531T100000Z
LOCATION:Goldach SG (St. Gallerstrasse 54\, 9403\, Goldach\, St. Gallen)
SUMMARY:Motorrad Grundkurs Rorschach
URL:https://fahrschule.kutlu.ch/component/rseventspro/ereignis/25-motorrad-
 grundkurs-rorschach?Itemid=101
END:VEVENT
END:VCALENDAR
