BEGIN:VCALENDAR
VERSION:2.0
PRODID:-//https://fahrschule.kutlu.ch///NONSGML kigkonsult.se iCalcreator 2.10.15//
METHOD:PUBLISH
BEGIN:VEVENT
UID:20260420T145058CEST-2634uFPKMI@https://fahrschule.kutlu.ch/
DTSTAMP:20260420T125058Z
DESCRIPTION:Teil 1 06.06.2026 08.00 - 12.00 UhrTeil 2 13.06.2026 08.00 - 12
 .00 UhrTeil 3 14.06.2026 08.00 - 12.00 UhrDer Grundkurs besteht aus 3 Kurs
 teilen à 4 Stunden. Unsere Kurse finden in angenehmen Kleingruppen statt. 
  \nDer Treffpunkt für den 1.Kursteil ist unser Übungsplatz in Goldach SG. 
 Für die weiteren Kursteile nach Absprache in der nahen Region. \nTeilnahme
 bedingungen:\n\ngültiger Lernfahrausweis\neigenes Motorrad (Motorrad/Rolle
 r kann gemietet werden 50.- CHF/Kursteil)\nMotorradbekleidung\n\nKursinhal
 t:\n\nDu lernst das Basiswissen\, um sicher und unfallfrei mit deinem Moto
 rrad unterwegs zu sein\nDu lernst alles\, was du für die Prüfung wissen mu
 sst (Notbremsung\, Kurvenfahren\, Fahren zu zweit etc.)\nWir zeigen dir be
 sonders wertvolle Tipps und Tricks rund um das Motorradfahren\n\n \n\n\n\n
 1. Kursteil\n\nUmgang Gas\, Kupplung\nUmgang Bremse\nSpurgasse\nSlalom fah
 ren\neine Acht fahren\nNotbremsung\n\n\n\n\n\n\n\n2. Kursteil\n\nFahren zu
  Zweit\nAnfahren am Berg\nEinspuren\, Zeichengabe\nBefahren von Verzweigun
 gen\nBremsbereitschaft\nGeschwindigkeitsgestaltung\nEinspurstrecken\n\n\n
 \n\n\n\n\n3. Kursteil\n\nBremsen und Ausweichen\nGegenlenken\nBremsen\, Be
 schleunigen\nSchräglagentraining\nKurvenfahrtechniken\nÜberholen\nGruppenf
 ahren\n\n\n\n https://fahrschule.kutlu.ch/component/rseventspro/ereignis/2
 6-motorrad-grundkurs-rorschach?Itemid=101
DTSTART:20260606T060000Z
DTEND:20260614T100000Z
LOCATION:Goldach SG (St. Gallerstrasse 54\, 9403\, Goldach\, St. Gallen)
SUMMARY:Motorrad Grundkurs Rorschach
URL:https://fahrschule.kutlu.ch/component/rseventspro/ereignis/26-motorrad-
 grundkurs-rorschach?Itemid=101
END:VEVENT
END:VCALENDAR
